BEGIN:VCALENDAR
VERSION:2.0
PRODID:-//Fanatic Salon Theater - ECPv6.7.0//NONSGML v1.0//EN
CALSCALE:GREGORIAN
METHOD:PUBLISH
X-WR-CALNAME:Fanatic Salon Theater
X-ORIGINAL-URL:https://fanaticsalon.com
X-WR-CALDESC:Events for Fanatic Salon Theater
REFRESH-INTERVAL;VALUE=DURATION:PT1H
X-Robots-Tag:noindex
X-PUBLISHED-TTL:PT1H
BEGIN:VTIMEZONE
TZID:America/Los_Angeles
BEGIN:DAYLIGHT
TZOFFSETFROM:-0800
TZOFFSETTO:-0700
TZNAME:PDT
DTSTART:20240310T100000
END:DAYLIGHT
BEGIN:STANDARD
TZOFFSETFROM:-0700
TZOFFSETTO:-0800
TZNAME:PST
DTSTART:20241103T090000
END:STANDARD
END:VTIMEZONE
BEGIN:VEVENT
DTSTART;TZID=America/Los_Angeles:20241122T193000
DTEND;TZID=America/Los_Angeles:20241122T220000
DTSTAMP:20260421T174213
CREATED:20241007T054752Z
LAST-MODIFIED:20250531T055012Z
UID:5936-1732303800-1732312800@fanaticsalon.com
SUMMARY:Recess
DESCRIPTION:Recess is back at fanaticSalon!\nWe are bringing a long form improv class show\, live music\, sketch comedy\, and fresh performance art to Culver City! \nDoors at 7:45pm with refreshments served in the courtyard before\, during intermission\, and after the show. \nLINEUP\n8:00pm – Chris Alvarado Improv Workshop – A class show performing long form improv. I’ve got friends in this! \n8:30pm – Daisy Spanks – A couple of songs from a wonderful musician. \nIntermission\n8:50pm – Recess Sketch – A repeat of our last performance\, but this time with our good friend James Heaney back in the cast! \nCody\, James\, Katrina\, Kristin\, Laura\, Ted and Vickie are Recess Sketch. Frank Caeti is our director\, with Jane Morris helping us adapt to fanaticSalon and running tech in the booth along with Melanie Guo on Friday. \n9:35pm – Coca-Lola – We welcome Katrina Lofgren\, James Heaney\, and two puppets. Or are we all puppets? \nTickets\nYou can pay in advance or at the door. Tixtree ticket sales close at 7pm on Friday\, April 25. You can also purchase at the door (and avoid the Tixtree fee) using cash\, Venmo\, or credit card\, even if you arrive a little late. \nFIRST TIME BUYERS\nIf you haven’t been to one of my events @ fanaticSalon (Backyard Improv\, ReCeSS\, SING!)\, send me an email (cody.l.saunders@gmail.com) for an early bird code you can use for a $10 ticket if you contact me before the end of April 23\, 2025. \n$15
URL:https://fanaticsalon.com/event/backyard-improv-3-2024-11-08-2024-11-22/2024-11-22/
LOCATION:Fanatic Salon\, 3815 Sawtelle Blvd\, Culver City\, CA\, 90066\, United States
CATEGORIES:Shows
ATTACH;FMTTYPE=image/jpeg:https://fanaticsalon.com/wp-content/uploads/2024/10/unnamed-6.jpg
END:VEVENT
END:VCALENDAR