BEGIN:VCALENDAR
VERSION:2.0
PRODID:-//Fanatic Salon Theater - ECPv6.7.0//NONSGML v1.0//EN
CALSCALE:GREGORIAN
METHOD:PUBLISH
X-WR-CALNAME:Fanatic Salon Theater
X-ORIGINAL-URL:https://fanaticsalon.com
X-WR-CALDESC:Events for Fanatic Salon Theater
REFRESH-INTERVAL;VALUE=DURATION:PT1H
X-Robots-Tag:noindex
X-PUBLISHED-TTL:PT1H
BEGIN:VTIMEZONE
TZID:America/Los_Angeles
BEGIN:DAYLIGHT
TZOFFSETFROM:-0800
TZOFFSETTO:-0700
TZNAME:PDT
DTSTART:20250309T100000
END:DAYLIGHT
BEGIN:STANDARD
TZOFFSETFROM:-0700
TZOFFSETTO:-0800
TZNAME:PST
DTSTART:20251102T090000
END:STANDARD
END:VTIMEZONE
BEGIN:VEVENT
DTSTART;TZID=America/Los_Angeles:20250108T200000
DTEND;TZID=America/Los_Angeles:20250108T200000
DTSTAMP:20260421T141456
CREATED:20250114T073441Z
LAST-MODIFIED:20250114T073442Z
UID:5992-1736366400-1736366400@fanaticsalon.com
SUMMARY:Comedy n Chill
DESCRIPTION:Fanatic Salon & Comedy n’ Chill presents:\nA night of stand up\nHosted by Maria Bruggere\n  \nFeaturing\n  \nAJ Faji \nAudrey Stewart \nJorge Lopez \nZane Helberg \nMike Muratore \n  \n  \n$15\nDoors 7:30\, show 8:00
URL:https://fanaticsalon.com/event/comedy-n-chill-5/
LOCATION:Fanatic Salon\, 3815 Sawtelle Blvd\, Culver City\, CA\, 90066\, United States
CATEGORIES:Shows
ATTACH;FMTTYPE=image/png:https://fanaticsalon.com/wp-content/uploads/2025/01/0.png
END:VEVENT
END:VCALENDAR