BEGIN:VCALENDAR
VERSION:2.0
PRODID:-//Fanatic Salon Theater - ECPv6.7.0//NONSGML v1.0//EN
CALSCALE:GREGORIAN
METHOD:PUBLISH
X-WR-CALNAME:Fanatic Salon Theater
X-ORIGINAL-URL:https://fanaticsalon.com
X-WR-CALDESC:Events for Fanatic Salon Theater
REFRESH-INTERVAL;VALUE=DURATION:PT1H
X-Robots-Tag:noindex
X-PUBLISHED-TTL:PT1H
BEGIN:VTIMEZONE
TZID:America/Los_Angeles
BEGIN:DAYLIGHT
TZOFFSETFROM:-0800
TZOFFSETTO:-0700
TZNAME:PDT
DTSTART:20230312T100000
END:DAYLIGHT
BEGIN:STANDARD
TZOFFSETFROM:-0700
TZOFFSETTO:-0800
TZNAME:PST
DTSTART:20231105T090000
END:STANDARD
END:VTIMEZONE
BEGIN:VEVENT
DTSTART;TZID=America/Los_Angeles:20231230T190000
DTEND;TZID=America/Los_Angeles:20231230T210000
DTSTAMP:20260421T193823
CREATED:20231224T232654Z
LAST-MODIFIED:20240706T073219Z
UID:5439-1703962800-1703970000@fanaticsalon.com
SUMMARY:Improv Famous
DESCRIPTION:It’s the return of Improv Famous! Come join us Saturday\, December 30 at 7pm and see some of the best improvisors on the planet create scenes based on the stories from 10-time Moth Slam winner (including the 2019 New York GrandSlam) KEVIN MCGEEHAN! With Will Hines\, Jane Morris\, Jaime Moyer\, Nnamdi Ngwe\, Andel Sudik and Jay Sukow \n$20
URL:https://fanaticsalon.com/event/improv-famous/2023-12-30/
LOCATION:Fanatic Salon\, 3815 Sawtelle Blvd\, Culver City\, CA\, 90066\, United States
CATEGORIES:Shows,This Week Events
ATTACH;FMTTYPE=image/jpeg:https://fanaticsalon.com/wp-content/uploads/2023/12/0.jpg
END:VEVENT
END:VCALENDAR