BEGIN:VCALENDAR
VERSION:2.0
PRODID:-//Fanatic Salon Theater - ECPv6.7.0//NONSGML v1.0//EN
CALSCALE:GREGORIAN
METHOD:PUBLISH
X-WR-CALNAME:Fanatic Salon Theater
X-ORIGINAL-URL:https://fanaticsalon.com
X-WR-CALDESC:Events for Fanatic Salon Theater
REFRESH-INTERVAL;VALUE=DURATION:PT1H
X-Robots-Tag:noindex
X-PUBLISHED-TTL:PT1H
BEGIN:VTIMEZONE
TZID:America/Los_Angeles
BEGIN:DAYLIGHT
TZOFFSETFROM:-0800
TZOFFSETTO:-0700
TZNAME:PDT
DTSTART:20230312T100000
END:DAYLIGHT
BEGIN:STANDARD
TZOFFSETFROM:-0700
TZOFFSETTO:-0800
TZNAME:PST
DTSTART:20231105T090000
END:STANDARD
END:VTIMEZONE
BEGIN:VEVENT
DTSTART;TZID=America/Los_Angeles:20230429T200000
DTEND;TZID=America/Los_Angeles:20230429T200000
DTSTAMP:20260419T073312
CREATED:20221204T080704Z
LAST-MODIFIED:20230429T062526Z
UID:5018-1682798400-1682798400@fanaticsalon.com
SUMMARY:Kathryn Schorr's Saturday Night Comedy Club
DESCRIPTION:This month’s Comedy Club features Maria Bruggere\, \nNicky Davis Miller \nBen Thompson \nHolly Perkins \nRick Martinelli \nand host Karen Forman \n8pm  \n$15 \nFree parking\, free wine and snacks\, RAFFLE!!!! Pary on the pation! \n 
URL:https://fanaticsalon.com/event/kathryn-schorrs-saturday-night-comedy-club-3-2023-04-29/
LOCATION:Fanatic Salon\, 3815 Sawtelle Blvd\, Culver City\, CA\, 90066\, United States
CATEGORIES:Shows
ATTACH;FMTTYPE=image/jpeg:https://fanaticsalon.com/wp-content/uploads/2022/12/KK-april-flyer-scaled.jpg
END:VEVENT
END:VCALENDAR