BEGIN:VCALENDAR
VERSION:2.0
PRODID:-//Fanatic Salon Theater - ECPv6.7.0//NONSGML v1.0//EN
CALSCALE:GREGORIAN
METHOD:PUBLISH
X-ORIGINAL-URL:https://fanaticsalon.com
X-WR-CALDESC:Events for Fanatic Salon Theater
REFRESH-INTERVAL;VALUE=DURATION:PT1H
X-Robots-Tag:noindex
X-PUBLISHED-TTL:PT1H
BEGIN:VTIMEZONE
TZID:America/Los_Angeles
BEGIN:DAYLIGHT
TZOFFSETFROM:-0800
TZOFFSETTO:-0700
TZNAME:PDT
DTSTART:20250309T100000
END:DAYLIGHT
BEGIN:STANDARD
TZOFFSETFROM:-0700
TZOFFSETTO:-0800
TZNAME:PST
DTSTART:20251102T090000
END:STANDARD
END:VTIMEZONE
BEGIN:VEVENT
DTSTART;TZID=America/Los_Angeles:20250525T200000
DTEND;TZID=America/Los_Angeles:20250525T220000
DTSTAMP:20260420T080347
CREATED:20241016T061557Z
LAST-MODIFIED:20250620T040533Z
UID:6111-1748203200-1748210400@fanaticsalon.com
SUMMARY:Off the Wall & Mostly Organic
DESCRIPTION:Off the Wall and Mostly Organic with Carol Weiss on the piano. \nWith Special Guests Mitch Sipla & Leah Knauer \n$15
URL:https://fanaticsalon.com/event/off-the-wall-mostly-organic-2-2024-11-24-2025-01-19-2025-03-23-2025-04-27-2025-05-25/2025-05-25/
CATEGORIES:Shows
ATTACH;FMTTYPE=image/jpeg:https://fanaticsalon.com/wp-content/uploads/2024/10/unnamed-8-scaled.jpg
END:VEVENT
END:VCALENDAR