BEGIN:VCALENDAR
VERSION:2.0
PRODID:-//Fanatic Salon Theater - ECPv6.7.0//NONSGML v1.0//EN
CALSCALE:GREGORIAN
METHOD:PUBLISH
X-WR-CALNAME:Fanatic Salon Theater
X-ORIGINAL-URL:https://fanaticsalon.com
X-WR-CALDESC:Events for Fanatic Salon Theater
REFRESH-INTERVAL;VALUE=DURATION:PT1H
X-Robots-Tag:noindex
X-PUBLISHED-TTL:PT1H
BEGIN:VTIMEZONE
TZID:America/Los_Angeles
BEGIN:DAYLIGHT
TZOFFSETFROM:-0800
TZOFFSETTO:-0700
TZNAME:PDT
DTSTART:20220313T100000
END:DAYLIGHT
BEGIN:STANDARD
TZOFFSETFROM:-0700
TZOFFSETTO:-0800
TZNAME:PST
DTSTART:20221106T090000
END:STANDARD
END:VTIMEZONE
BEGIN:VEVENT
DTSTART;TZID=America/Los_Angeles:20220429T200000
DTEND;TZID=America/Los_Angeles:20220429T200000
DTSTAMP:20260420T084431
CREATED:20220427T063616Z
LAST-MODIFIED:20220713T175020Z
UID:3975-1651262400-1651262400@fanaticsalon.com
SUMMARY:Tarot! The Show
DESCRIPTION:TAROT – The Show!\n\nCome get your Tarot read by Reverend Pearson and then we will have it interpreted by The Minions of Fate!\n\nYour problems solved\, and vibration raised.\n\nStarring as The Minions of Fate:\n\nMarty Cola\nHarry Hannigan\nSean Kinney\nBrian LaRosa\nJane Morris\nCraig Woods\n\n$15 at the door
URL:https://fanaticsalon.com/event/tarot-the-show-2/2022-04-29/
LOCATION:Fanatic Salon\, 3815 Sawtelle Blvd\, Culver City\, CA\, 90066\, United States
CATEGORIES:Shows,This Week Events
ATTACH;FMTTYPE=image/png:https://fanaticsalon.com/wp-content/uploads/2022/04/0.png
END:VEVENT
END:VCALENDAR