BEGIN:VCALENDAR
VERSION:2.0
PRODID:-//Fanatic Salon Theater - ECPv6.7.0//NONSGML v1.0//EN
CALSCALE:GREGORIAN
METHOD:PUBLISH
X-ORIGINAL-URL:https://fanaticsalon.com
X-WR-CALDESC:Events for Fanatic Salon Theater
REFRESH-INTERVAL;VALUE=DURATION:PT1H
X-Robots-Tag:noindex
X-PUBLISHED-TTL:PT1H
BEGIN:VTIMEZONE
TZID:America/Los_Angeles
BEGIN:DAYLIGHT
TZOFFSETFROM:-0800
TZOFFSETTO:-0700
TZNAME:PDT
DTSTART:20260308T100000
END:DAYLIGHT
BEGIN:STANDARD
TZOFFSETFROM:-0700
TZOFFSETTO:-0800
TZNAME:PST
DTSTART:20261101T090000
END:STANDARD
END:VTIMEZONE
BEGIN:VEVENT
DTSTART;TZID=America/Los_Angeles:20260422T190000
DTEND;TZID=America/Los_Angeles:20260422T210000
DTSTAMP:20260420T084508
CREATED:20191001T202850Z
LAST-MODIFIED:20191001T202850Z
UID:6336-1776884400-1776891600@fanaticsalon.com
SUMMARY:The WPA
DESCRIPTION:Write it. Hone it. Perform it. From page to stage. Jane Morris conducts a solo performance workshop that takes your work from idea to staging\, to performing. The class works with actors and writers at any level of the process\, whether you’re just getting started\, or you feel almost ready to mount a whole solo show. Look at your work from various angles\, as a personal story\, as satire\, as action\, as dialogue. \nStop waiting to perform. Start working right now! The workshop\, now in its third year\, has produced 9 original shows. Every participant has finished work and taken their work to venues around Los Angeles. Our shows have traveled the country and won awards. Your performance can be next! \nYou’ll have the opportunity to rehearse and perform your work at the fanaticSalon whenever you’re ready! \nClick here to see a list of successful productions spawned by WPA \n 
URL:https://fanaticsalon.com/event/writework-with-jane-morris/2026-04-22/
CATEGORIES:This Week Events,workshops
ATTACH;FMTTYPE=image/jpeg:https://fanaticsalon.com/wp-content/uploads/2022/05/0.jpg
END:VEVENT
BEGIN:VEVENT
DTSTART;TZID=America/Los_Angeles:20260429T190000
DTEND;TZID=America/Los_Angeles:20260429T210000
DTSTAMP:20260420T084508
CREATED:20191001T202850Z
LAST-MODIFIED:20191001T202850Z
UID:6343-1777489200-1777496400@fanaticsalon.com
SUMMARY:The WPA
DESCRIPTION:Write it. Hone it. Perform it. From page to stage. Jane Morris conducts a solo performance workshop that takes your work from idea to staging\, to performing. The class works with actors and writers at any level of the process\, whether you’re just getting started\, or you feel almost ready to mount a whole solo show. Look at your work from various angles\, as a personal story\, as satire\, as action\, as dialogue. \nStop waiting to perform. Start working right now! The workshop\, now in its third year\, has produced 9 original shows. Every participant has finished work and taken their work to venues around Los Angeles. Our shows have traveled the country and won awards. Your performance can be next! \nYou’ll have the opportunity to rehearse and perform your work at the fanaticSalon whenever you’re ready! \nClick here to see a list of successful productions spawned by WPA \n 
URL:https://fanaticsalon.com/event/writework-with-jane-morris/2026-04-29/
CATEGORIES:This Week Events,workshops
ATTACH;FMTTYPE=image/jpeg:https://fanaticsalon.com/wp-content/uploads/2022/05/0.jpg
END:VEVENT
BEGIN:VEVENT
DTSTART;TZID=America/Los_Angeles:20260506T190000
DTEND;TZID=America/Los_Angeles:20260506T210000
DTSTAMP:20260420T084508
CREATED:20191001T202850Z
LAST-MODIFIED:20191001T202850Z
UID:6349-1778094000-1778101200@fanaticsalon.com
SUMMARY:The WPA
DESCRIPTION:Write it. Hone it. Perform it. From page to stage. Jane Morris conducts a solo performance workshop that takes your work from idea to staging\, to performing. The class works with actors and writers at any level of the process\, whether you’re just getting started\, or you feel almost ready to mount a whole solo show. Look at your work from various angles\, as a personal story\, as satire\, as action\, as dialogue. \nStop waiting to perform. Start working right now! The workshop\, now in its third year\, has produced 9 original shows. Every participant has finished work and taken their work to venues around Los Angeles. Our shows have traveled the country and won awards. Your performance can be next! \nYou’ll have the opportunity to rehearse and perform your work at the fanaticSalon whenever you’re ready! \nClick here to see a list of successful productions spawned by WPA \n 
URL:https://fanaticsalon.com/event/writework-with-jane-morris/2026-05-06/
CATEGORIES:This Week Events,workshops
ATTACH;FMTTYPE=image/jpeg:https://fanaticsalon.com/wp-content/uploads/2022/05/0.jpg
END:VEVENT
BEGIN:VEVENT
DTSTART;TZID=America/Los_Angeles:20260513T190000
DTEND;TZID=America/Los_Angeles:20260513T210000
DTSTAMP:20260420T084508
CREATED:20191001T202850Z
LAST-MODIFIED:20191001T202850Z
UID:6356-1778698800-1778706000@fanaticsalon.com
SUMMARY:The WPA
DESCRIPTION:Write it. Hone it. Perform it. From page to stage. Jane Morris conducts a solo performance workshop that takes your work from idea to staging\, to performing. The class works with actors and writers at any level of the process\, whether you’re just getting started\, or you feel almost ready to mount a whole solo show. Look at your work from various angles\, as a personal story\, as satire\, as action\, as dialogue. \nStop waiting to perform. Start working right now! The workshop\, now in its third year\, has produced 9 original shows. Every participant has finished work and taken their work to venues around Los Angeles. Our shows have traveled the country and won awards. Your performance can be next! \nYou’ll have the opportunity to rehearse and perform your work at the fanaticSalon whenever you’re ready! \nClick here to see a list of successful productions spawned by WPA \n 
URL:https://fanaticsalon.com/event/writework-with-jane-morris/2026-05-13/
CATEGORIES:This Week Events,workshops
ATTACH;FMTTYPE=image/jpeg:https://fanaticsalon.com/wp-content/uploads/2022/05/0.jpg
END:VEVENT
BEGIN:VEVENT
DTSTART;TZID=America/Los_Angeles:20260520T190000
DTEND;TZID=America/Los_Angeles:20260520T210000
DTSTAMP:20260420T084508
CREATED:20191001T202850Z
LAST-MODIFIED:20191001T202850Z
UID:6363-1779303600-1779310800@fanaticsalon.com
SUMMARY:The WPA
DESCRIPTION:Write it. Hone it. Perform it. From page to stage. Jane Morris conducts a solo performance workshop that takes your work from idea to staging\, to performing. The class works with actors and writers at any level of the process\, whether you’re just getting started\, or you feel almost ready to mount a whole solo show. Look at your work from various angles\, as a personal story\, as satire\, as action\, as dialogue. \nStop waiting to perform. Start working right now! The workshop\, now in its third year\, has produced 9 original shows. Every participant has finished work and taken their work to venues around Los Angeles. Our shows have traveled the country and won awards. Your performance can be next! \nYou’ll have the opportunity to rehearse and perform your work at the fanaticSalon whenever you’re ready! \nClick here to see a list of successful productions spawned by WPA \n 
URL:https://fanaticsalon.com/event/writework-with-jane-morris/2026-05-20/
CATEGORIES:This Week Events,workshops
ATTACH;FMTTYPE=image/jpeg:https://fanaticsalon.com/wp-content/uploads/2022/05/0.jpg
END:VEVENT
BEGIN:VEVENT
DTSTART;TZID=America/Los_Angeles:20260527T190000
DTEND;TZID=America/Los_Angeles:20260527T210000
DTSTAMP:20260420T084508
CREATED:20191001T202850Z
LAST-MODIFIED:20191001T202850Z
UID:6370-1779908400-1779915600@fanaticsalon.com
SUMMARY:The WPA
DESCRIPTION:Write it. Hone it. Perform it. From page to stage. Jane Morris conducts a solo performance workshop that takes your work from idea to staging\, to performing. The class works with actors and writers at any level of the process\, whether you’re just getting started\, or you feel almost ready to mount a whole solo show. Look at your work from various angles\, as a personal story\, as satire\, as action\, as dialogue. \nStop waiting to perform. Start working right now! The workshop\, now in its third year\, has produced 9 original shows. Every participant has finished work and taken their work to venues around Los Angeles. Our shows have traveled the country and won awards. Your performance can be next! \nYou’ll have the opportunity to rehearse and perform your work at the fanaticSalon whenever you’re ready! \nClick here to see a list of successful productions spawned by WPA \n 
URL:https://fanaticsalon.com/event/writework-with-jane-morris/2026-05-27/
CATEGORIES:This Week Events,workshops
ATTACH;FMTTYPE=image/jpeg:https://fanaticsalon.com/wp-content/uploads/2022/05/0.jpg
END:VEVENT
BEGIN:VEVENT
DTSTART;TZID=America/Los_Angeles:20260603T190000
DTEND;TZID=America/Los_Angeles:20260603T210000
DTSTAMP:20260420T084508
CREATED:20191001T202850Z
LAST-MODIFIED:20191001T202850Z
UID:6373-1780513200-1780520400@fanaticsalon.com
SUMMARY:The WPA
DESCRIPTION:Write it. Hone it. Perform it. From page to stage. Jane Morris conducts a solo performance workshop that takes your work from idea to staging\, to performing. The class works with actors and writers at any level of the process\, whether you’re just getting started\, or you feel almost ready to mount a whole solo show. Look at your work from various angles\, as a personal story\, as satire\, as action\, as dialogue. \nStop waiting to perform. Start working right now! The workshop\, now in its third year\, has produced 9 original shows. Every participant has finished work and taken their work to venues around Los Angeles. Our shows have traveled the country and won awards. Your performance can be next! \nYou’ll have the opportunity to rehearse and perform your work at the fanaticSalon whenever you’re ready! \nClick here to see a list of successful productions spawned by WPA \n 
URL:https://fanaticsalon.com/event/writework-with-jane-morris/2026-06-03/
CATEGORIES:This Week Events,workshops
ATTACH;FMTTYPE=image/jpeg:https://fanaticsalon.com/wp-content/uploads/2022/05/0.jpg
END:VEVENT
BEGIN:VEVENT
DTSTART;TZID=America/Los_Angeles:20260610T190000
DTEND;TZID=America/Los_Angeles:20260610T210000
DTSTAMP:20260420T084508
CREATED:20191001T202850Z
LAST-MODIFIED:20191001T202850Z
UID:6376-1781118000-1781125200@fanaticsalon.com
SUMMARY:The WPA
DESCRIPTION:Write it. Hone it. Perform it. From page to stage. Jane Morris conducts a solo performance workshop that takes your work from idea to staging\, to performing. The class works with actors and writers at any level of the process\, whether you’re just getting started\, or you feel almost ready to mount a whole solo show. Look at your work from various angles\, as a personal story\, as satire\, as action\, as dialogue. \nStop waiting to perform. Start working right now! The workshop\, now in its third year\, has produced 9 original shows. Every participant has finished work and taken their work to venues around Los Angeles. Our shows have traveled the country and won awards. Your performance can be next! \nYou’ll have the opportunity to rehearse and perform your work at the fanaticSalon whenever you’re ready! \nClick here to see a list of successful productions spawned by WPA \n 
URL:https://fanaticsalon.com/event/writework-with-jane-morris/2026-06-10/
CATEGORIES:This Week Events,workshops
ATTACH;FMTTYPE=image/jpeg:https://fanaticsalon.com/wp-content/uploads/2022/05/0.jpg
END:VEVENT
BEGIN:VEVENT
DTSTART;TZID=America/Los_Angeles:20260617T190000
DTEND;TZID=America/Los_Angeles:20260617T210000
DTSTAMP:20260420T084508
CREATED:20191001T202850Z
LAST-MODIFIED:20191001T202850Z
UID:6379-1781722800-1781730000@fanaticsalon.com
SUMMARY:The WPA
DESCRIPTION:Write it. Hone it. Perform it. From page to stage. Jane Morris conducts a solo performance workshop that takes your work from idea to staging\, to performing. The class works with actors and writers at any level of the process\, whether you’re just getting started\, or you feel almost ready to mount a whole solo show. Look at your work from various angles\, as a personal story\, as satire\, as action\, as dialogue. \nStop waiting to perform. Start working right now! The workshop\, now in its third year\, has produced 9 original shows. Every participant has finished work and taken their work to venues around Los Angeles. Our shows have traveled the country and won awards. Your performance can be next! \nYou’ll have the opportunity to rehearse and perform your work at the fanaticSalon whenever you’re ready! \nClick here to see a list of successful productions spawned by WPA \n 
URL:https://fanaticsalon.com/event/writework-with-jane-morris/2026-06-17/
CATEGORIES:This Week Events,workshops
ATTACH;FMTTYPE=image/jpeg:https://fanaticsalon.com/wp-content/uploads/2022/05/0.jpg
END:VEVENT
BEGIN:VEVENT
DTSTART;TZID=America/Los_Angeles:20260624T190000
DTEND;TZID=America/Los_Angeles:20260624T210000
DTSTAMP:20260420T084508
CREATED:20191001T202850Z
LAST-MODIFIED:20191001T202850Z
UID:6382-1782327600-1782334800@fanaticsalon.com
SUMMARY:The WPA
DESCRIPTION:Write it. Hone it. Perform it. From page to stage. Jane Morris conducts a solo performance workshop that takes your work from idea to staging\, to performing. The class works with actors and writers at any level of the process\, whether you’re just getting started\, or you feel almost ready to mount a whole solo show. Look at your work from various angles\, as a personal story\, as satire\, as action\, as dialogue. \nStop waiting to perform. Start working right now! The workshop\, now in its third year\, has produced 9 original shows. Every participant has finished work and taken their work to venues around Los Angeles. Our shows have traveled the country and won awards. Your performance can be next! \nYou’ll have the opportunity to rehearse and perform your work at the fanaticSalon whenever you’re ready! \nClick here to see a list of successful productions spawned by WPA \n 
URL:https://fanaticsalon.com/event/writework-with-jane-morris/2026-06-24/
CATEGORIES:This Week Events,workshops
ATTACH;FMTTYPE=image/jpeg:https://fanaticsalon.com/wp-content/uploads/2022/05/0.jpg
END:VEVENT
BEGIN:VEVENT
DTSTART;TZID=America/Los_Angeles:20260701T190000
DTEND;TZID=America/Los_Angeles:20260701T210000
DTSTAMP:20260420T084508
CREATED:20191001T202850Z
LAST-MODIFIED:20191001T202850Z
UID:6386-1782932400-1782939600@fanaticsalon.com
SUMMARY:The WPA
DESCRIPTION:Write it. Hone it. Perform it. From page to stage. Jane Morris conducts a solo performance workshop that takes your work from idea to staging\, to performing. The class works with actors and writers at any level of the process\, whether you’re just getting started\, or you feel almost ready to mount a whole solo show. Look at your work from various angles\, as a personal story\, as satire\, as action\, as dialogue. \nStop waiting to perform. Start working right now! The workshop\, now in its third year\, has produced 9 original shows. Every participant has finished work and taken their work to venues around Los Angeles. Our shows have traveled the country and won awards. Your performance can be next! \nYou’ll have the opportunity to rehearse and perform your work at the fanaticSalon whenever you’re ready! \nClick here to see a list of successful productions spawned by WPA \n 
URL:https://fanaticsalon.com/event/writework-with-jane-morris/2026-07-01/
CATEGORIES:This Week Events,workshops
ATTACH;FMTTYPE=image/jpeg:https://fanaticsalon.com/wp-content/uploads/2022/05/0.jpg
END:VEVENT
BEGIN:VEVENT
DTSTART;TZID=America/Los_Angeles:20260708T190000
DTEND;TZID=America/Los_Angeles:20260708T210000
DTSTAMP:20260420T084508
CREATED:20191001T202850Z
LAST-MODIFIED:20191001T202850Z
UID:6389-1783537200-1783544400@fanaticsalon.com
SUMMARY:The WPA
DESCRIPTION:Write it. Hone it. Perform it. From page to stage. Jane Morris conducts a solo performance workshop that takes your work from idea to staging\, to performing. The class works with actors and writers at any level of the process\, whether you’re just getting started\, or you feel almost ready to mount a whole solo show. Look at your work from various angles\, as a personal story\, as satire\, as action\, as dialogue. \nStop waiting to perform. Start working right now! The workshop\, now in its third year\, has produced 9 original shows. Every participant has finished work and taken their work to venues around Los Angeles. Our shows have traveled the country and won awards. Your performance can be next! \nYou’ll have the opportunity to rehearse and perform your work at the fanaticSalon whenever you’re ready! \nClick here to see a list of successful productions spawned by WPA \n 
URL:https://fanaticsalon.com/event/writework-with-jane-morris/2026-07-08/
CATEGORIES:This Week Events,workshops
ATTACH;FMTTYPE=image/jpeg:https://fanaticsalon.com/wp-content/uploads/2022/05/0.jpg
END:VEVENT
BEGIN:VEVENT
DTSTART;TZID=America/Los_Angeles:20260715T190000
DTEND;TZID=America/Los_Angeles:20260715T210000
DTSTAMP:20260420T084508
CREATED:20191001T202850Z
LAST-MODIFIED:20191001T202850Z
UID:6400-1784142000-1784149200@fanaticsalon.com
SUMMARY:The WPA
DESCRIPTION:Write it. Hone it. Perform it. From page to stage. Jane Morris conducts a solo performance workshop that takes your work from idea to staging\, to performing. The class works with actors and writers at any level of the process\, whether you’re just getting started\, or you feel almost ready to mount a whole solo show. Look at your work from various angles\, as a personal story\, as satire\, as action\, as dialogue. \nStop waiting to perform. Start working right now! The workshop\, now in its third year\, has produced 9 original shows. Every participant has finished work and taken their work to venues around Los Angeles. Our shows have traveled the country and won awards. Your performance can be next! \nYou’ll have the opportunity to rehearse and perform your work at the fanaticSalon whenever you’re ready! \nClick here to see a list of successful productions spawned by WPA \n 
URL:https://fanaticsalon.com/event/writework-with-jane-morris/2026-07-15/
CATEGORIES:This Week Events,workshops
ATTACH;FMTTYPE=image/jpeg:https://fanaticsalon.com/wp-content/uploads/2022/05/0.jpg
END:VEVENT
END:VCALENDAR