BEGIN:VCALENDAR
VERSION:2.0
PRODID:-//Fanatic Salon Theater - ECPv6.7.0//NONSGML v1.0//EN
CALSCALE:GREGORIAN
METHOD:PUBLISH
X-WR-CALNAME:Fanatic Salon Theater
X-ORIGINAL-URL:https://fanaticsalon.com
X-WR-CALDESC:Events for Fanatic Salon Theater
REFRESH-INTERVAL;VALUE=DURATION:PT1H
X-Robots-Tag:noindex
X-PUBLISHED-TTL:PT1H
BEGIN:VTIMEZONE
TZID:America/Los_Angeles
BEGIN:DAYLIGHT
TZOFFSETFROM:-0800
TZOFFSETTO:-0700
TZNAME:PDT
DTSTART:20240310T100000
END:DAYLIGHT
BEGIN:STANDARD
TZOFFSETFROM:-0700
TZOFFSETTO:-0800
TZNAME:PST
DTSTART:20241103T090000
END:STANDARD
END:VTIMEZONE
BEGIN:VEVENT
DTSTART;TZID=America/Los_Angeles:20241020T153000
DTEND;TZID=America/Los_Angeles:20241020T170000
DTSTAMP:20260422T072326
CREATED:20241002T045508Z
LAST-MODIFIED:20241002T045645Z
UID:5871-1729438200-1729443600@fanaticsalon.com
SUMMARY:43 White Men Audition
DESCRIPTION:COME SEE WHAT DEB HAS BEEN UP TO.\nHER LATEST PERFORMANCE ART PROJECT IS \n43 WHITE MEN AUDITION\nSUNDAY\, OCTOBER 20\, 2024\, 3PM – 5PM\n(ONE DAY ONLY) \n(HERE ARE JUST SOME OF THE WHITE MEN YOU’LL SEE)\n \n  \n  \n  \n  \n  \n  \n  \n  \n  \n  \n43 WHITE MEN (plaster\, acrylic\, fabric) is inspired by Honoré Daumier’s small satirical political sculptures\, the hand puppets Paul Klee created for his son\, and a dash of Andy Warhol’s screen tests.
URL:https://fanaticsalon.com/event/43-white-men-audition/
LOCATION:Fanatic Salon\, 3815 Sawtelle Blvd\, Culver City\, CA\, 90066\, United States
CATEGORIES:Shows
ATTACH;FMTTYPE=image/jpeg:https://fanaticsalon.com/wp-content/uploads/2024/10/unnamed.jpg
END:VEVENT
BEGIN:VEVENT
DTSTART;TZID=America/Los_Angeles:20241020T200000
DTEND;TZID=America/Los_Angeles:20241020T220000
DTSTAMP:20260422T072326
CREATED:20241016T061557Z
LAST-MODIFIED:20241120T062414Z
UID:5884-1729454400-1729461600@fanaticsalon.com
SUMMARY:Off the Wall & Mostly Organic
DESCRIPTION:Off the Wall and Mostly Organic with Carol Weiss on the piano. \nWith Special Guests Rick Overton\, Miranda Shade and Barbera Howard \n$15
URL:https://fanaticsalon.com/event/off-the-wall-mostly-organic-2/2024-10-20/
CATEGORIES:Shows
ATTACH;FMTTYPE=image/jpeg:https://fanaticsalon.com/wp-content/uploads/2024/10/unnamed-1-scaled.jpg
END:VEVENT
END:VCALENDAR