BEGIN:VCALENDAR
VERSION:2.0
PRODID:-//Fanatic Salon Theater - ECPv6.7.0//NONSGML v1.0//EN
CALSCALE:GREGORIAN
METHOD:PUBLISH
X-WR-CALNAME:Fanatic Salon Theater
X-ORIGINAL-URL:https://fanaticsalon.com
X-WR-CALDESC:Events for Fanatic Salon Theater
REFRESH-INTERVAL;VALUE=DURATION:PT1H
X-Robots-Tag:noindex
X-PUBLISHED-TTL:PT1H
BEGIN:VTIMEZONE
TZID:America/Los_Angeles
BEGIN:DAYLIGHT
TZOFFSETFROM:-0800
TZOFFSETTO:-0700
TZNAME:PDT
DTSTART:20250309T100000
END:DAYLIGHT
BEGIN:STANDARD
TZOFFSETFROM:-0700
TZOFFSETTO:-0800
TZNAME:PST
DTSTART:20251102T090000
END:STANDARD
END:VTIMEZONE
BEGIN:VEVENT
DTSTART;TZID=America/Los_Angeles:20250829T200000
DTEND;TZID=America/Los_Angeles:20250829T210000
DTSTAMP:20260421T025000
CREATED:20250828T003846Z
LAST-MODIFIED:20251126T085830Z
UID:6198-1756497600-1756501200@fanaticsalon.com
SUMMARY:In Search of Black People
DESCRIPTION:Directed by Jane Morris\, this comedic exploration promises to deliver Browne’s signature wit and unique perspective on a timely and thought-provoking topic. \nRoz Browne\, known for her appearances on shows such as Curb Your Enthusiasm\, Baskets\, This Fool\, Bob Hearts Abishola\, and The View\, will embark on a journey of self-discovery and cultural commentary in her latest solo endeavor. “In Search of Black People” delves into the comedian’s observations and experiences\, filtered through her sharp comedic lens. \n\n  \n  \n$20
URL:https://fanaticsalon.com/event/in-search-of-black-people/2025-08-29/
LOCATION:Fanatic Salon\, 3815 Sawtelle Blvd\, Culver City\, CA\, 90066\, United States
CATEGORIES:Shows
ATTACH;FMTTYPE=image/jpeg:https://fanaticsalon.com/wp-content/uploads/2025/08/0.jpg
END:VEVENT
END:VCALENDAR