BEGIN:VCALENDAR
VERSION:2.0
PRODID:-//Fanatic Salon Theater - ECPv6.7.0//NONSGML v1.0//EN
CALSCALE:GREGORIAN
METHOD:PUBLISH
X-ORIGINAL-URL:https://fanaticsalon.com
X-WR-CALDESC:Events for Fanatic Salon Theater
REFRESH-INTERVAL;VALUE=DURATION:PT1H
X-Robots-Tag:noindex
X-PUBLISHED-TTL:PT1H
BEGIN:VTIMEZONE
TZID:America/Los_Angeles
BEGIN:DAYLIGHT
TZOFFSETFROM:-0800
TZOFFSETTO:-0700
TZNAME:PDT
DTSTART:20240310T100000
END:DAYLIGHT
BEGIN:STANDARD
TZOFFSETFROM:-0700
TZOFFSETTO:-0800
TZNAME:PST
DTSTART:20241103T090000
END:STANDARD
END:VTIMEZONE
BEGIN:VEVENT
DTSTART;TZID=America/Los_Angeles:20241011T193000
DTEND;TZID=America/Los_Angeles:20241011T220000
DTSTAMP:20260419T092255
CREATED:20241007T054752Z
LAST-MODIFIED:20241108T201305Z
UID:5876-1728675000-1728684000@fanaticsalon.com
SUMMARY:Backyard Improv
DESCRIPTION:Backyard Improv presents another great improvised event with 5 wonderful groups!\n\nWe start earlier than normal\, first set at 7:30\, with doors at 7:15! \nYou can pay in advance or at the door. Online ticket sales close at 7pm on Friday\, October 11. You can also purchase at the door (and avoid the Eventbrite fee) using cash\, Venmo\, or credit card\, even if you arrive a little late! \n==FIRST TIME BUYERS==\nIf you haven’t been to one of my events @ fanaticSalon (Backyard Improv\, ReCeSS\, SING!)\, send me an email (cody.l.saunders@gmail.com) for an early bird code you can use for a $10 ticket if you buy before the end of October 9\, 2024. \nDoors at 7:15pm with refreshments served in the courtyard before\, during intermission\, and after the show. \n==LINEUP==\n7:30pm – Space Heater – This Backyard Improv staple has been keeping the space warm since 2021! \n8:00pm – Requiem for a Scene – We explore dramatic\, abstract\, and comedic themes with a unique\, music inspired format. \n8:30pm – Explorations Volume 1 – An experiment from Chris Alvarado Improv Workshops. \n==Intermission==\n9:00pm – Singing in the Range – A fully improvised musical accompanied by musical director Ryan Brookshire. For the very first time we are introducing our Action Movie format! \n9:30pm – Copycat – Beginning with a suggestion\, a chain of interconnected scenes unfolds\, repeating\, gradually evolving and adding complexity\, until ultimately circling back to the original starting point.
URL:https://fanaticsalon.com/event/backyard-improv-3/2024-10-11/
LOCATION:Fanatic Salon\, 3815 Sawtelle Blvd\, Culver City\, CA\, 90066\, United States
CATEGORIES:Shows
ATTACH;FMTTYPE=image/png:https://fanaticsalon.com/wp-content/uploads/2024/10/0.png
END:VEVENT
END:VCALENDAR